BEGIN:VCALENDAR
VERSION:2.0
PRODID:-//Tattooed Mom - ECPv5.9.0//NONSGML v1.0//EN
CALSCALE:GREGORIAN
METHOD:PUBLISH
X-WR-CALNAME:Tattooed Mom
X-ORIGINAL-URL:https://www.tattooedmomphilly.com
X-WR-CALDESC:Events for Tattooed Mom
BEGIN:VTIMEZONE
TZID:America/New_York
BEGIN:DAYLIGHT
TZOFFSETFROM:-0500
TZOFFSETTO:-0400
TZNAME:EDT
DTSTART:20170312T070000
END:DAYLIGHT
BEGIN:STANDARD
TZOFFSETFROM:-0400
TZOFFSETTO:-0500
TZNAME:EST
DTSTART:20171105T060000
END:STANDARD
END:VTIMEZONE
BEGIN:VEVENT
DTSTART;TZID=America/New_York:20170226T190000
DTEND;TZID=America/New_York:20170226T210000
DTSTAMP:20260421T210215
CREATED:20170212T202348Z
LAST-MODIFIED:20170218T174252Z
UID:795-1488135600-1488142800@www.tattooedmomphilly.com
SUMMARY:Creatures of the Night: LIVE Pop-culture Theatre
DESCRIPTION:Darkness falls and magic stirs as we become the CREATURES OF THE NIGHT! \nJoin the cult of Creatures of the Night as they celebrate and perform scenes from their favorite pop-culture tv shows including Bob’s Burgers\, Rick & Morty and It’s Always Sunny in Philadelphia.  Gaze upon pop-inspired art as you are entertained by Philly’s Pop-culture Punk Theatre!Starring\nRobin Graves\nRyan Bayler\nIan Monaco\nJoshua Kirwin \nHosted by Anthony Taylor \nART CRAWL by McArt à la Carte Edith and Harold (Erin & Jim) will be selling pop-culture inspired art! \nNO COVER\nFREE arts & crafts\nHalf off all drafts 5-7pm & 10-11pm\n$2 Pabst Blue Ribbon 16oz. pounders\n1/2 price tater tots: your choice of original\, cheesy\, poutine\, BBQ or parmesan pepper!
URL:https://www.tattooedmomphilly.com/event/creatures-night-pop-culture-performances/
CATEGORIES:Live Performance
ATTACH;FMTTYPE=image/jpeg:https://www.tattooedmomphilly.com/wp-content/uploads/2017/02/16665688_1244609998909338_2227792569616230688_o.jpg
END:VEVENT
END:VCALENDAR