BEGIN:VCALENDAR
VERSION:2.0
PRODID:-//Tattooed Mom - ECPv5.9.0//NONSGML v1.0//EN
CALSCALE:GREGORIAN
METHOD:PUBLISH
X-WR-CALNAME:Tattooed Mom
X-ORIGINAL-URL:https://www.tattooedmomphilly.com
X-WR-CALDESC:Events for Tattooed Mom
BEGIN:VTIMEZONE
TZID:America/New_York
BEGIN:DAYLIGHT
TZOFFSETFROM:-0500
TZOFFSETTO:-0400
TZNAME:EDT
DTSTART:20230312T070000
END:DAYLIGHT
BEGIN:STANDARD
TZOFFSETFROM:-0400
TZOFFSETTO:-0500
TZNAME:EST
DTSTART:20231105T060000
END:STANDARD
END:VTIMEZONE
BEGIN:VEVENT
DTSTART;TZID=America/New_York:20231023T180000
DTEND;TZID=America/New_York:20231023T220000
DTSTAMP:20260425T121154
CREATED:20231002T225726Z
LAST-MODIFIED:20231005T172205Z
UID:10687-1698084000-1698098400@www.tattooedmomphilly.com
SUMMARY:Collide Zine's First Halloween Open Mic + Artist Bash
DESCRIPTION:Are you ready for an evening of creepy creativity\, spooky spoken word\, and paranormal poetry? Then join us Monday\, October 23rd\, from 6-10PM for an event that is the perfect pre-game for that costume you’re dying to try out on Halloween weekend. \n  \nMONDAY\, OCTOBER 23RD\n6-10PM\nNO COVER // FREE FUN\n>> NOTAFLOF << \n  \nYes\, there will be a costume contest\, art raffles\, a poetry open mic in the back room\, and art vendors in the front room of the upstairs bar until close. We also invite attendees to PASTE DA WALLS with your handmade art and stickers! Support local artists and poets in a way you’ve never seen before. We’ve got tricks\, we’ve got treats\, and we’re keeping the mic going all night long! \nThis event is free 21+. Open mic spaces are limited\, so get there early to reserve your spot. Raffle winners will be announced at 9:30 sharp\, and all tickets sold help support Collide Zine\, now in its fifth edition. You can purchase a copy at the event or by following @collidezinephilly. \n  \n*** \nWhat’s Up at TMoms: \n• Mondays\, 4-11pm | Prepare yourselves—Meatless Monday is back at Tattooed Mom (with a twist)!!!!!!!!! Every two months we’ll be highlighting a different vegan menu item every Monday. See what’s on special this month! \n• Daily Happy Hour | All drafts are just $4 every day from 4-6pm! \n• Daily Menu | Tattooed Mom will also be serving tasty eats and ice cold drinks all evening. \n• Upstairs dining\, bar access\, and event entry is 21+ w/ valid ID.
URL:https://www.tattooedmomphilly.com/event/collide-zines-first-halloween-open-mic-artist-bash/
CATEGORIES:Literary Event
ATTACH;FMTTYPE=image/jpeg:https://www.tattooedmomphilly.com/wp-content/uploads/2023/10/Paper-provided-Bring-Your-Own-Supplies-1.jpg
END:VEVENT
END:VCALENDAR