BEGIN:VCALENDAR
VERSION:2.0
PRODID:-//Tattooed Mom - ECPv5.9.0//NONSGML v1.0//EN
CALSCALE:GREGORIAN
METHOD:PUBLISH
X-WR-CALNAME:Tattooed Mom
X-ORIGINAL-URL:https://www.tattooedmomphilly.com
X-WR-CALDESC:Events for Tattooed Mom
BEGIN:VTIMEZONE
TZID:America/New_York
BEGIN:DAYLIGHT
TZOFFSETFROM:-0500
TZOFFSETTO:-0400
TZNAME:EDT
DTSTART:20230312T070000
END:DAYLIGHT
BEGIN:STANDARD
TZOFFSETFROM:-0400
TZOFFSETTO:-0500
TZNAME:EST
DTSTART:20231105T060000
END:STANDARD
END:VTIMEZONE
BEGIN:VEVENT
DTSTART;TZID=America/New_York:20230417T180000
DTEND;TZID=America/New_York:20230417T220000
DTSTAMP:20260425T091908
CREATED:20230329T215457Z
LAST-MODIFIED:20230329T215457Z
UID:9678-1681754400-1681768800@www.tattooedmomphilly.com
SUMMARY:Collide Zine Art Show & Open Mic Night
DESCRIPTION:Join us for a night to celebrate COLLIDE’s third issue at Tattooed Mom’s on South Street. Enjoy great food and cocktails in the upstairs area of the bar. The first and second rooms will have spaces for artists to hang originals\, prints\, or have tables of work n display for people to engage with and purchase. \n  \nMONDAY\, APRIL 17TH\n6-10PM\nNO COVER // FREE FUN\nRSVP: EVENTBRITE \n  \nThe third room will be closed off for an open-mic\, where poets and performers can sign up for 5-10 minutes of mic time throughout the night. \nIssue 3 writers are encouraged to perform their pieces in the zine and be present at the event for autographs and photo ops. \n11 x 17 posters of featured Collide art and hard copies of Collide Issues 3 will be available for purchase! \n  \n*** \nWhat’s Up at TMoms: \n• Enjoy our new happy hour! All drafts are just $4 every day from 4-6pm! \n• Tattooed Mom will also be serving tasty eats and ice cold drinks all evening. \n• Upstairs dining\, bar access\, and event entry is 21+ w/ valid ID.
URL:https://www.tattooedmomphilly.com/event/collide-zine-art-show-open-mic-night/
CATEGORIES:Art Show,Literary Event,Live Performance,Party
ATTACH;FMTTYPE=image/jpeg:https://www.tattooedmomphilly.com/wp-content/uploads/2023/03/https___cdn.evbuc_.com_images_474300439_209948302160_1_original.jpeg
END:VEVENT
END:VCALENDAR