BEGIN:VCALENDAR
VERSION:2.0
PRODID:-//Tattooed Mom - ECPv5.9.0//NONSGML v1.0//EN
CALSCALE:GREGORIAN
METHOD:PUBLISH
X-WR-CALNAME:Tattooed Mom
X-ORIGINAL-URL:https://www.tattooedmomphilly.com
X-WR-CALDESC:Events for Tattooed Mom
BEGIN:VTIMEZONE
TZID:America/New_York
BEGIN:DAYLIGHT
TZOFFSETFROM:-0500
TZOFFSETTO:-0400
TZNAME:EDT
DTSTART:20230312T070000
END:DAYLIGHT
BEGIN:STANDARD
TZOFFSETFROM:-0400
TZOFFSETTO:-0500
TZNAME:EST
DTSTART:20231105T060000
END:STANDARD
END:VTIMEZONE
BEGIN:VEVENT
DTSTART;TZID=America/New_York:20231105T180000
DTEND;TZID=America/New_York:20231105T210000
DTSTAMP:20260423T152718
CREATED:20231027T175449Z
LAST-MODIFIED:20231101T155444Z
UID:10927-1699207200-1699218000@www.tattooedmomphilly.com
SUMMARY:Clem H. Fandango 2024 Calendar Release Party
DESCRIPTION:Join us for the Official Release Party of The Clem Fandango 2024 Calendar! Created and hosted by Stevie Laney\, 20% of calendar sales will be donated to @phillypaws! 😸 \n  \nSUNDAY\, NOVEMBER 5TH\n6-9PM \n  \nVendors:\n@steviellaney\n@____tyst\n@elizabethkrosss\n@jpkimtheperson\n@kenneykutouts\n@nightowldesigns\n@snugbabyhues\n@tapedofftv\n@thelalatheory \n  \n*** \nWhat’s Up at TMoms: \n• Sundays\, All Day Long | Craft Sundays at TMoms? BACK. Googly eyes? BACK. Coloring pages? BACK? Your creative spirit? BACK. Come thru every Sunday for FREE arts & crafts upstairs and downstairs at Tattooed Mom! \n• Daily Happy Hour | All drafts are just $4 every day from 4-6pm! \n• Daily Menu | Tattooed Mom will also be serving tasty eats and ice cold drinks all evening. \n• Upstairs dining\, bar access\, and event entry is 21+ w/ valid ID.
URL:https://www.tattooedmomphilly.com/event/clem-h-fandango-2024-calendar-release-party/
CATEGORIES:Art Show,Benefit Party
ATTACH;FMTTYPE=image/jpeg:https://www.tattooedmomphilly.com/wp-content/uploads/2023/10/Clem-H-Fandano-2024-Cal-Release-Party.jpg
END:VEVENT
END:VCALENDAR