BEGIN:VCALENDAR
VERSION:2.0
PRODID:-//Tattooed Mom - ECPv5.9.0//NONSGML v1.0//EN
CALSCALE:GREGORIAN
METHOD:PUBLISH
X-WR-CALNAME:Tattooed Mom
X-ORIGINAL-URL:https://www.tattooedmomphilly.com
X-WR-CALDESC:Events for Tattooed Mom
BEGIN:VTIMEZONE
TZID:America/New_York
BEGIN:DAYLIGHT
TZOFFSETFROM:-0500
TZOFFSETTO:-0400
TZNAME:EDT
DTSTART:20230312T070000
END:DAYLIGHT
BEGIN:STANDARD
TZOFFSETFROM:-0400
TZOFFSETTO:-0500
TZNAME:EST
DTSTART:20231105T060000
END:STANDARD
END:VTIMEZONE
BEGIN:VEVENT
DTSTART;TZID=America/New_York:20230411T180000
DTEND;TZID=America/New_York:20230411T210000
DTSTAMP:20260419T232621
CREATED:20230322T221902Z
LAST-MODIFIED:20230329T005114Z
UID:9639-1681236000-1681246800@www.tattooedmomphilly.com
SUMMARY:Body Talk: an evening of readings
DESCRIPTION:“I am not an intellectual. I write with my body.”\n—Clarice Lispector \n  \n“Body-ody-ody-ody-ody-ody-ody-ody\nOdy-ody-ody-ody-ody-ody-ody (mwah)”\n— Megan Thee Stallion \n  \nCome enjoy an evening hosted by visiting poet Emily Marie Passos Duffy and local author Leah Mele-Bazaz! This multigenre reading of prose\, poetry\, and hybrid forms will explore a spectrum of sensations from body horror to body elation. What are the limits of the body? How do factors such as ability\, age\, gender identity and expression\, race\, size\, sexuality\, illness\, wellness\, relationship with your environment\, and more shape the language of your body? \n  \nTUESDAY\, APRIL 11TH\n6-9PM\nNO COVER // SUGGESTED DONATION\nRSVP: FB EVENT \n  \nReadings by your hosts and featured writers Jeannine A. Cook\, Alexa Vallejo\, K.P. Writ\, and Nathan Alling Long explore these questions and delve into the ways bodies can hunger\, betray us\, support us\, and teach us. \nThe event will include book signings\, pop up flash readings\, and more! \n  \n*** \nWhat’s Up at TMoms: \n• Enjoy our new happy hour! All drafts are just $4 every day from 4-6pm! \n• Tattooed Mom will also be serving tasty eats and ice cold drinks all evening. \n• Upstairs dining\, bar access\, and event entry is 21+ w/ valid ID.
URL:https://www.tattooedmomphilly.com/event/body-talk-an-evening-of-readings/
CATEGORIES:Literary Event
ATTACH;FMTTYPE=image/jpeg:https://www.tattooedmomphilly.com/wp-content/uploads/2023/03/AB5A99CC-6629-4FC3-B217-2A4601B1FF45.jpeg
END:VEVENT
END:VCALENDAR