BEGIN:VCALENDAR
VERSION:2.0
PRODID:-//Tattooed Mom - ECPv5.9.0//NONSGML v1.0//EN
CALSCALE:GREGORIAN
METHOD:PUBLISH
X-WR-CALNAME:Tattooed Mom
X-ORIGINAL-URL:https://www.tattooedmomphilly.com
X-WR-CALDESC:Events for Tattooed Mom
BEGIN:VTIMEZONE
TZID:America/New_York
BEGIN:DAYLIGHT
TZOFFSETFROM:-0500
TZOFFSETTO:-0400
TZNAME:EDT
DTSTART:20230312T070000
END:DAYLIGHT
BEGIN:STANDARD
TZOFFSETFROM:-0400
TZOFFSETTO:-0500
TZNAME:EST
DTSTART:20231105T060000
END:STANDARD
END:VTIMEZONE
BEGIN:VEVENT
DTSTART;TZID=America/New_York:20231017T190000
DTEND;TZID=America/New_York:20231017T220000
DTSTAMP:20260425T231835
CREATED:20231003T195507Z
LAST-MODIFIED:20231005T172344Z
UID:10704-1697569200-1697580000@www.tattooedmomphilly.com
SUMMARY:Big Ass Bitties: A Big Ass Pumpkin Spice Special // October 2023
DESCRIPTION:Pals! Big Ass Bitties is a wild ride\, a night of comedic risks\, feats of glory\, attempts of epic proportions. You will be rewarded! You will get what you came for. You will see Bettys Bits. \nThe night is filled with adventure and misadventure from amazeballs comics. Won’t you come thru\, and share your open arms with our vulnerable goofs? Come see this show! A line up of wild proportions! \n  \nTUESDAY\, OCTOBER 17TH\nDOORS @ 6PM + SHOW @ 7PM\nNO COVER // FREE FUN\nRSVP: FB EVENT \n  \nFEATURING:\nMasha\nBlake Wexler\nRachel Peters\nTom Hannigan\nMax Barth \n  \nWhat’s Up at TMoms: \n• Tuesdays\, 4-11pm | The triumphant return of Taco Tuesday is finally here! Y’all better zoom down for $1.50 beef or bean tacos every Tuesday!! And wash it all down with $3 Tecate! \n• Daily Happy Hour | All drafts are just $4 every day from 4-6pm! \n• Daily Menu | Tattooed Mom will also be serving tasty eats and ice cold drinks all evening. \n• Upstairs dining\, bar access\, and event entry is 21+ w/ valid ID.
URL:https://www.tattooedmomphilly.com/event/big-ass-bitties-october-2023/
CATEGORIES:Comedy,Live Performance
ATTACH;FMTTYPE=image/png:https://www.tattooedmomphilly.com/wp-content/uploads/2023/10/2-1.png
END:VEVENT
END:VCALENDAR