BEGIN:VCALENDAR
VERSION:2.0
PRODID:-//Tattooed Mom - ECPv5.9.0//NONSGML v1.0//EN
CALSCALE:GREGORIAN
METHOD:PUBLISH
X-WR-CALNAME:Tattooed Mom
X-ORIGINAL-URL:https://www.tattooedmomphilly.com
X-WR-CALDESC:Events for Tattooed Mom
BEGIN:VTIMEZONE
TZID:America/New_York
BEGIN:DAYLIGHT
TZOFFSETFROM:-0500
TZOFFSETTO:-0400
TZNAME:EDT
DTSTART:20230312T070000
END:DAYLIGHT
BEGIN:STANDARD
TZOFFSETFROM:-0400
TZOFFSETTO:-0500
TZNAME:EST
DTSTART:20231105T060000
END:STANDARD
END:VTIMEZONE
BEGIN:VEVENT
DTSTART;TZID=America/New_York:20230509T180000
DTEND;TZID=America/New_York:20230509T210000
DTSTAMP:20260419T214026
CREATED:20230421T183201Z
LAST-MODIFIED:20230421T183414Z
UID:9774-1683655200-1683666000@www.tattooedmomphilly.com
SUMMARY:Big Ass Bitties // May 2023
DESCRIPTION:This is a very silly comedy show where a lineup of entertainers will perform comedic feats! They might be risky bits\, weird bits\, sketch bits\, improvised bits\, musical bits\, wild bits. BUT ALL OF THEM WILL BE BIG ASS BITTY BITS. \nExpect bits. You will see bits. All the bittiest bits you could imagine.\nCome see this show!\nA line up of wild proportions! \n  \nTUESDAY MAY 9TH\nDOORS @ 6PM + SHOW @ 7PM\nNO COVER // FREE FUN\nRSVP: FACEBOOK | EVENTBRITE \n  \nLINE UP:\nJOSH MACHIZ\nMATTHEW SILVER\nALIX GRIFFIN\nMELANIE LYNCH\nHANNAH BURKS\nBRENDANN MURPHY\nMASHA\nJEFF ROSER\nLAUREN LOGIUDICE \nRESERVE UR BIG ASS A FREE TICKET THIS SECOND~ \n*** \nWhat’s Up at TMoms: \n• Enjoy our new happy hour! All drafts are just $4 every day from 4-6pm! \n• Tattooed Mom will also be serving tasty eats and ice cold drinks all evening. \n• Upstairs dining\, bar access\, and event entry is 21+ w/ valid ID.
URL:https://www.tattooedmomphilly.com/event/big-ass-bitties-may-2023/
CATEGORIES:Comedy,Live Performance
ATTACH;FMTTYPE=image/png:https://www.tattooedmomphilly.com/wp-content/uploads/2023/04/1.png
END:VEVENT
END:VCALENDAR