BEGIN:VCALENDAR
VERSION:2.0
PRODID:-//Tattooed Mom - ECPv5.9.0//NONSGML v1.0//EN
CALSCALE:GREGORIAN
METHOD:PUBLISH
X-WR-CALNAME:Tattooed Mom
X-ORIGINAL-URL:https://www.tattooedmomphilly.com
X-WR-CALDESC:Events for Tattooed Mom
BEGIN:VTIMEZONE
TZID:America/New_York
BEGIN:DAYLIGHT
TZOFFSETFROM:-0500
TZOFFSETTO:-0400
TZNAME:EDT
DTSTART:20170312T070000
END:DAYLIGHT
BEGIN:STANDARD
TZOFFSETFROM:-0400
TZOFFSETTO:-0500
TZNAME:EST
DTSTART:20171105T060000
END:STANDARD
END:VTIMEZONE
BEGIN:VEVENT
DTSTART;TZID=America/New_York:20170928T203000
DTEND;TZID=America/New_York:20170928T233000
DTSTAMP:20260421T142602
CREATED:20170826T211338Z
LAST-MODIFIED:20170901T020205Z
UID:1778-1506630600-1506641400@www.tattooedmomphilly.com
SUMMARY:Betty & Ralph's Porn Stash: a comedy roundtable
DESCRIPTION:Join local gay comedians Betty & Ralph and a bunch of their comedian friends as they watch random clips of porn and talk about love\, sex\, relationships\, politics\, society\, & anything else that may come up! \nTonight’s panel includes:\nAlex Grubard (Weeding Out the Stoned)\nChanel Ali (Seeso/Women in Comedy Festival)\nMichael Kelly (Tattooed Momedy)\nKayleigh Leggitt (Hoffman) \nStand Up Opener:\nAbby Rosenquist (Philly’s Phunniest 2017) \nSpoken Word Performance by:\nAnnaliese Downey \nFREE FUN!\nBONUS: Stick around for some fun games and giveaways! \n50¢ pierogi until 10pm\nHalf off all drafts 5-7 & 10-11pm
URL:https://www.tattooedmomphilly.com/event/betty-ralphs-porn-stash-comedy-roundtable/
CATEGORIES:Comedy
ATTACH;FMTTYPE=image/jpeg:https://www.tattooedmomphilly.com/wp-content/uploads/2017/08/BARPS-TMoms-Show-Sept-2017-01.jpg
END:VEVENT
END:VCALENDAR