BEGIN:VCALENDAR
VERSION:2.0
PRODID:-//Tattooed Mom - ECPv5.9.0//NONSGML v1.0//EN
CALSCALE:GREGORIAN
METHOD:PUBLISH
X-WR-CALNAME:Tattooed Mom
X-ORIGINAL-URL:https://www.tattooedmomphilly.com
X-WR-CALDESC:Events for Tattooed Mom
BEGIN:VTIMEZONE
TZID:America/New_York
BEGIN:DAYLIGHT
TZOFFSETFROM:-0500
TZOFFSETTO:-0400
TZNAME:EDT
DTSTART:20240310T070000
END:DAYLIGHT
BEGIN:STANDARD
TZOFFSETFROM:-0400
TZOFFSETTO:-0500
TZNAME:EST
DTSTART:20241103T060000
END:STANDARD
END:VTIMEZONE
BEGIN:VEVENT
DTSTART;TZID=America/New_York:20240412T190000
DTEND;TZID=America/New_York:20240412T220000
DTSTAMP:20260425T133842
CREATED:20240406T022241Z
LAST-MODIFIED:20240406T151302Z
UID:12043-1712948400-1712959200@www.tattooedmomphilly.com
SUMMARY:Bell Crash Collective Presents: Simpsons Art Show
DESCRIPTION:FRIDAY\, APRIL 12TH\n7-10PM\nNO COVER // FREE FUN \n  \nFEATURING:\nAna Scavuzzo\nBevan Dayn\nRobert Dicks\nBobby Trefz\nCaroline Scavuzzo\nDrew Miele\nGet Up IG\nGhost Etching\nJersey Ghoul\nJon-Christian\nLexie Stiefel\nLizzy D\nRocco Marrone\nSnapkracker\nStacy Pierce \nSteve Yunkeek\nUncommon Additions\nViolent Visual (Ken Miller)\nViolette Impermanence\nWavy \n*** \nWhat’s Up at TMoms: \n• Daily Happy Hour | All drafts are just $4 every day from 4-6pm! \n• Daily Menu | Tattooed Mom will also be serving tasty eats and ice cold drinks all evening. \n• Upstairs dining\, bar access\, and event entry is 21+ w/ valid ID. \n• Accessibility at TMoms | Due to the construction of our historical building\, Tattooed Mom is only partially accessible. Our event space is on the second floor\, which is only accessible via a flight of stairs (20 steps\, 3 feet wide\, railing on the left side only). For more information\, please visit our Accessibility page.
URL:https://www.tattooedmomphilly.com/event/bell-crash-collective-presents-simpsons-art-show/
CATEGORIES:Art Show
ATTACH;FMTTYPE=image/jpeg:https://www.tattooedmomphilly.com/wp-content/uploads/2024/04/IMG_9528.jpeg
END:VEVENT
END:VCALENDAR