BEGIN:VCALENDAR
VERSION:2.0
PRODID:-//Tattooed Mom - ECPv5.9.0//NONSGML v1.0//EN
CALSCALE:GREGORIAN
METHOD:PUBLISH
X-WR-CALNAME:Tattooed Mom
X-ORIGINAL-URL:https://www.tattooedmomphilly.com
X-WR-CALDESC:Events for Tattooed Mom
BEGIN:VTIMEZONE
TZID:America/New_York
BEGIN:DAYLIGHT
TZOFFSETFROM:-0500
TZOFFSETTO:-0400
TZNAME:EDT
DTSTART:20180311T070000
END:DAYLIGHT
BEGIN:STANDARD
TZOFFSETFROM:-0400
TZOFFSETTO:-0500
TZNAME:EST
DTSTART:20181104T060000
END:STANDARD
END:VTIMEZONE
BEGIN:VEVENT
DTSTART;TZID=America/New_York:20180525T190000
DTEND;TZID=America/New_York:20180525T220000
DTSTAMP:20260424T224532
CREATED:20180516T173953Z
LAST-MODIFIED:20180524T162119Z
UID:3022-1527274800-1527285600@www.tattooedmomphilly.com
SUMMARY:Audre's Revenge Presents: A Night of Black Women in Horror
DESCRIPTION:Join Audre’s Revenge Film members Monika Estrella Negra and Mariam Bastani as we host a free screening of the Blaxploitation classic ‘ABBY‘\, alongside two original shorts by DAIJU EDWARDS (who will be in attendance) and R. SHANEA WILLIAMS. \nFILMS:\n‘A Valentine‘ by Sunday Banks\, based on the poem by Edgar Allen Poe\nAn original take on the classic poem by Edgar Allen Poe\, based in Philadelphia\n—\n‘Paralysis‘ by R. Shanea Williams\n‘A young woman with a sleep disorder realizes that there may be other factors at play in her new home.’\n—\n‘A Sea Beast Landing’ by Daiju Edwards\nAn experimental horror/sci fi short that documents the landing of a creature not quite human\, from the abyss.’\n—\n‘Abby‘ by William Girdler\nAn archaeologist (William Marshall) tries to rid a minister’s (Terry Carter) wife (Carol Speed) of a spewing demon dug up in Nigeria. \nWe will also be giving a sneak peak at our newest production ‘BITTEN\, A TRAGEDY’\, and Taped OFF TV will be vending some amazing 80’s 90’s cinephile merch. \nEnjoy this free screening with half off all drafts from 5-7pm and 10-11pm. \nJoin the Facebook Event and invite all your pals!
URL:https://www.tattooedmomphilly.com/event/audres-revenge-presents-night-black-women-horror/
CATEGORIES:Film Screening
ATTACH;FMTTYPE=image/jpeg:https://www.tattooedmomphilly.com/wp-content/uploads/2018/05/5-25_AudresRevengeFlyer.jpg
END:VEVENT
END:VCALENDAR