BEGIN:VCALENDAR
VERSION:2.0
PRODID:-//Tattooed Mom - ECPv5.9.0//NONSGML v1.0//EN
CALSCALE:GREGORIAN
METHOD:PUBLISH
X-WR-CALNAME:Tattooed Mom
X-ORIGINAL-URL:https://www.tattooedmomphilly.com
X-WR-CALDESC:Events for Tattooed Mom
BEGIN:VTIMEZONE
TZID:America/New_York
BEGIN:DAYLIGHT
TZOFFSETFROM:-0500
TZOFFSETTO:-0400
TZNAME:EDT
DTSTART:20170312T070000
END:DAYLIGHT
BEGIN:STANDARD
TZOFFSETFROM:-0400
TZOFFSETTO:-0500
TZNAME:EST
DTSTART:20171105T060000
END:STANDARD
END:VTIMEZONE
BEGIN:VEVENT
DTSTART;TZID=America/New_York:20170305T120000
DTEND;TZID=America/New_York:20170305T233000
DTSTAMP:20260422T193954
CREATED:20170303T134711Z
LAST-MODIFIED:20170303T134711Z
UID:872-1488715200-1488756600@www.tattooedmomphilly.com
SUMMARY:Arts & Crafts Sunday: Potato Head
DESCRIPTION:Hey Spud Lovers\, this month Arts & Crafts Sundays here are just for you! Celebrate the mighty tater and create your own old school potato head from a real potato! \nCheck out our tasty brunch menu till 4:30pm\, half priced tater tots all day & half priced drafts from 5-7 & 10-11pm. \nFREE FUN for the whole family every Sunday in March.
URL:https://www.tattooedmomphilly.com/event/arts-crafts-sunday-potato-head/
CATEGORIES:Arts & Crafts
ATTACH;FMTTYPE=image/png:https://www.tattooedmomphilly.com/wp-content/uploads/2016/12/CRAFT-march-Potato-party.png
END:VEVENT
END:VCALENDAR