BEGIN:VCALENDAR
VERSION:2.0
PRODID:-//Tattooed Mom - ECPv5.9.0//NONSGML v1.0//EN
CALSCALE:GREGORIAN
METHOD:PUBLISH
X-WR-CALNAME:Tattooed Mom
X-ORIGINAL-URL:https://www.tattooedmomphilly.com
X-WR-CALDESC:Events for Tattooed Mom
BEGIN:VTIMEZONE
TZID:America/New_York
BEGIN:DAYLIGHT
TZOFFSETFROM:-0500
TZOFFSETTO:-0400
TZNAME:EDT
DTSTART:20190310T070000
END:DAYLIGHT
BEGIN:STANDARD
TZOFFSETFROM:-0400
TZOFFSETTO:-0500
TZNAME:EST
DTSTART:20191103T060000
END:STANDARD
END:VTIMEZONE
BEGIN:VEVENT
DTSTART;TZID=America/New_York:20191010T180000
DTEND;TZID=America/New_York:20191010T220000
DTSTAMP:20260422T075942
CREATED:20190925T194553Z
LAST-MODIFIED:20190925T194553Z
UID:5845-1570730400-1570744800@www.tattooedmomphilly.com
SUMMARY:Art Heals: World Mental Health Day
DESCRIPTION:World Mental Health Day is observed each year on October 10th\, with the overall objective of raising awareness of mental health issues around the world and mobilizing efforts in support of mental health. \nThis year\, NAMI Bucks County is partnering with NAMI Philadelphia to host a special #ArtHeals: World Mental Health Day event with Kyle Confehr at Tattooed Mom to make mental health beautiful in the Greater Philadelphia area. \nThere is no cost to attend the group art show\, and proceeds from art sales and raffles benefit NAMI’s work to improve the lives of everyone affected by mental illness through education\, advocacy\, and support. \nArtists:\nNicole Saltzer\ntheundertaker90\nDeanna Ferlanti\nEllen Manning\nJanean\nPhilly Dragonaut\nD.T. 215\n& Kyle Confehr! \nEnjoy this event with our Pierogi Thursday specials:\n50¢ vegan potato & onion pierogi from noon-10pm\n& half price drafts 5-7pm and 10-11pm \nJoin the Facebook Event and invite all your pals!
URL:https://www.tattooedmomphilly.com/event/art-heals-world-mental-health-day/
CATEGORIES:Art Show
ATTACH;FMTTYPE=image/jpeg:https://www.tattooedmomphilly.com/wp-content/uploads/2019/09/10-10_ArtHeals.jpg
END:VEVENT
END:VCALENDAR