BEGIN:VCALENDAR
VERSION:2.0
PRODID:-//Tattooed Mom - ECPv5.9.0//NONSGML v1.0//EN
CALSCALE:GREGORIAN
METHOD:PUBLISH
X-WR-CALNAME:Tattooed Mom
X-ORIGINAL-URL:https://www.tattooedmomphilly.com
X-WR-CALDESC:Events for Tattooed Mom
BEGIN:VTIMEZONE
TZID:America/New_York
BEGIN:DAYLIGHT
TZOFFSETFROM:-0500
TZOFFSETTO:-0400
TZNAME:EDT
DTSTART:20230312T070000
END:DAYLIGHT
BEGIN:STANDARD
TZOFFSETFROM:-0400
TZOFFSETTO:-0500
TZNAME:EST
DTSTART:20231105T060000
END:STANDARD
END:VTIMEZONE
BEGIN:VEVENT
DTSTART;TZID=America/New_York:20230920T180000
DTEND;TZID=America/New_York:20230920T210000
DTSTAMP:20260422T122724
CREATED:20230918T173243Z
LAST-MODIFIED:20230918T202435Z
UID:10545-1695232800-1695243600@www.tattooedmomphilly.com
SUMMARY:Art Exhibit Memorial Celebration and Sticker Swap
DESCRIPTION:All are welcome to talk about life\, death\, and all things weird in memory of Paco\, also known as asab0ves0bel0w. \nWe’ll be celebrating his creative spirit with an exhibition of his paintings. All are welcome to bring stickers & stories to swap around the communal pool table. \n  \nWEDNESDAY\, SEPTEMBER 20TH\n6-9PM // WORDS AT 9PM \n  \n*** \nWhat’s Up at TMoms: \n• Classic or vegan Smash Burgers available every Wednesday for just $6! Plus $3 PBR! Wednesdays\, 4-11pm.\n>>> Recently named one of the top burgers in the city by The Philadelphia Inquirer! <<< \n• Daily TMoms happy hour! All drafts are just $4 every day from 4-6pm! \n• Tattooed Mom will also be serving tasty eats and ice cold drinks all evening. \n• Upstairs dining\, bar access\, and event entry is 21+ w/ valid ID.
URL:https://www.tattooedmomphilly.com/event/art-exhibit-memorial-celebration-and-sticker-swap/
CATEGORIES:Burger Wednesday,Community,Meetup
ATTACH;FMTTYPE=image/jpeg:https://www.tattooedmomphilly.com/wp-content/uploads/2023/09/555072DC-.jpg
END:VEVENT
END:VCALENDAR