BEGIN:VCALENDAR
VERSION:2.0
PRODID:-//Tattooed Mom - ECPv5.9.0//NONSGML v1.0//EN
CALSCALE:GREGORIAN
METHOD:PUBLISH
X-WR-CALNAME:Tattooed Mom
X-ORIGINAL-URL:https://www.tattooedmomphilly.com
X-WR-CALDESC:Events for Tattooed Mom
BEGIN:VTIMEZONE
TZID:America/New_York
BEGIN:DAYLIGHT
TZOFFSETFROM:-0500
TZOFFSETTO:-0400
TZNAME:EDT
DTSTART:20170312T070000
END:DAYLIGHT
BEGIN:STANDARD
TZOFFSETFROM:-0400
TZOFFSETTO:-0500
TZNAME:EST
DTSTART:20171105T060000
END:STANDARD
END:VTIMEZONE
BEGIN:VEVENT
DTSTART;TZID=America/New_York:20170319T190000
DTEND;TZID=America/New_York:20170319T220000
DTSTAMP:20260424T164314
CREATED:20170210T162403Z
LAST-MODIFIED:20170317T162113Z
UID:782-1489950000-1489960800@www.tattooedmomphilly.com
SUMMARY:Art Against Fascism
DESCRIPTION:Kings\, dictators\, fascists? Not on our watch! Join the Philly Resistance for a celebration of creativity and a blow against thuggery. \n*Anti-fascist art on display…and for sale!\n*Selected readings that presage the world we are entering\n*Make-your-own protest sign\n*Political representative letter writing station \nAll proceeds from book / art sales go to the ACLU of PA. It’s win\, win\, win—you’re gonna win so much you’ll be tired of winning! \nPro-art. Anti-fascism. \n↓↓↓ FIND OUT MORE about the artists! ↓↓↓↓ \nFeaturing Work by:\nAndy Futuro\nAlex Eckman-Lawn\nLarry Swetman\nG. E. Nosek\nAmy Scheidegger\nEmily Paige Townsend\nNathan Smith\nNancy Clearwater Herman\nAustin Latshaw\nJaz Malone\nHeather Winter Vaughan\nJamie Elizabeth Craig\nKristin Schattenfield Rein\nStephen Megargee\nLeah Sivieri-Persson\nOlivia Cashman\nNarya Marcille\nNicole Zuckerman\nBronwen Sarah\nMeg Lemieur\nKate Heisler\nZach Weiner\nAlex Sayer\nRosie Carlson\nJon McGoran\nDon-Paul Angelini\nPriscilla Anacakuyani\nClaire Elisse\nJoanna Pietrylowski\nAlex Brooks\nGreg Christie\nJonathan Skivo\nNikolay Milushev\nDaniel Oliva \nand MORE to come!
URL:https://www.tattooedmomphilly.com/event/art-against-fascism/
CATEGORIES:Art Show,Literary Event
ATTACH;FMTTYPE=image/jpeg:https://www.tattooedmomphilly.com/wp-content/uploads/2017/02/16602153_10104889494450803_5082618631934760793_o.jpg
END:VEVENT
END:VCALENDAR