BEGIN:VCALENDAR
VERSION:2.0
PRODID:-//Tattooed Mom - ECPv5.9.0//NONSGML v1.0//EN
CALSCALE:GREGORIAN
METHOD:PUBLISH
X-WR-CALNAME:Tattooed Mom
X-ORIGINAL-URL:https://www.tattooedmomphilly.com
X-WR-CALDESC:Events for Tattooed Mom
BEGIN:VTIMEZONE
TZID:America/New_York
BEGIN:DAYLIGHT
TZOFFSETFROM:-0500
TZOFFSETTO:-0400
TZNAME:EDT
DTSTART:20230312T070000
END:DAYLIGHT
BEGIN:STANDARD
TZOFFSETFROM:-0400
TZOFFSETTO:-0500
TZNAME:EST
DTSTART:20231105T060000
END:STANDARD
END:VTIMEZONE
BEGIN:VEVENT
DTSTART;TZID=America/New_York:20230216T180000
DTEND;TZID=America/New_York:20230216T220000
DTSTAMP:20260420T043957
CREATED:20230119T221211Z
LAST-MODIFIED:20230119T221232Z
UID:9315-1676570400-1676584800@www.tattooedmomphilly.com
SUMMARY:Adoom & Dooley Doodles & Friends
DESCRIPTION:Adoom and Dooley Doodles and Friends – come by and check out an assortment of work from some Philly artists. Hosted by local cartoonists Adoom Cusack and Sean Dooley\, there will be original artwork\, shirts\, stickers\, pins\, prints\, comics\, and more! \n  \nTHURSDAY\, FEBRUARY 16TH\n6-10PM\nNO COVER // FREE FUN\nRSVP: EVENTBRITE \n  \nFeatured artists:\n@adoomcusack\n@musclespasm\n@meganwebb.art\n@dreamygutss\n@lindseygillart\n@painted_closet\n@i_thee_decor \n  \n*** \nWhat’s Up at TMoms: \n• All hail Pierogi Thursday! Munch and crunch on 75¢ pierogi (vegan\, obvi) plus $3 cans of Tecate every Thursday!! And don’t forget ur toppings… Thursdays\, 4-11pm. \n• Enjoy our new happy hour! All drafts are just $4 every day from 4-6pm! \n• Tattooed Mom will also be serving tasty eats and ice cold drinks all evening. \n• Upstairs dining\, bar access\, and event entry is 21+ w/ valid ID.
URL:https://www.tattooedmomphilly.com/event/adoom-dooley-doodles-friends/
CATEGORIES:Art Show
ATTACH;FMTTYPE=image/png:https://www.tattooedmomphilly.com/wp-content/uploads/2023/01/ADOOM-DOOLEY.png
END:VEVENT
END:VCALENDAR