BEGIN:VCALENDAR
VERSION:2.0
PRODID:-//Tattooed Mom - ECPv5.9.0//NONSGML v1.0//EN
CALSCALE:GREGORIAN
METHOD:PUBLISH
X-WR-CALNAME:Tattooed Mom
X-ORIGINAL-URL:https://www.tattooedmomphilly.com
X-WR-CALDESC:Events for Tattooed Mom
BEGIN:VTIMEZONE
TZID:America/New_York
BEGIN:DAYLIGHT
TZOFFSETFROM:-0500
TZOFFSETTO:-0400
TZNAME:EDT
DTSTART:20180311T070000
END:DAYLIGHT
BEGIN:STANDARD
TZOFFSETFROM:-0400
TZOFFSETTO:-0500
TZNAME:EST
DTSTART:20181104T060000
END:STANDARD
END:VTIMEZONE
BEGIN:VEVENT
DTSTART;VALUE=DATE:20180623
DTEND;VALUE=DATE:20180702
DTSTAMP:20260425T111224
CREATED:20180611T210424Z
LAST-MODIFIED:20180701T183012Z
UID:3255-1529712000-1530489599@www.tattooedmomphilly.com
SUMMARY:6th Annual Philadelphia Podcast Festival
DESCRIPTION:The Philadelphia Podcasting Society is bringing 28 podcasts to TMOMs for LIVE show recordings during the Philadelphia Podcast Festival!  This fest\, featuring mostly Philly local podcasts\, will run throughout the city from June 22nd-July 1st. Meet the voices behind your favorite podcast\, or find a new show altogether! \nHere are the podcasts being recorded LIVE upstairs at Tattooed Mom!  Stop by to check them out\, and buy a drink for your favorite podcast stars! \nSaturday\, June 23rd\n1:00pm A Quest for Magic and Steel\n2:00pm The Crispy Noodle\n3:00pm Poppin Bottles\n4:00pm Highlander Rewatched\n5:00pm Good Times Great Movies\n6:00pm The Cinescape\n7:00pm Dissecting the 80s\n \nSunday\, June 24th\n1:00pm WeLikeDota\n2:00pm The Broad Street Line\n3:00pm Get Ya Life\n4:00pm Delco Young Democast\n5:00pm American Immigrant\n6:00pm Both Sides\n7:00pm Alt-Black \nSaturday\, June 30th\n1:00pm Kidflix\n2:00pm Film Loop\n3:00pm Doom Thugs\n4:00pm Ghouls Next Door\n5:00pm First Reaction//Fan Reaction\n6:00pm Blacklisted\n7:00pm Jawn Appetit \nSunday\, July 1st\n1:00pm Everything is Awesome\n2:00pm Full Belly Laughs\n3:00pm Philly Famous\n4:00pm Pop\, The Question\n5:00pm Nerds with Words\n6:00pm Twisted Philly\n7:00pm The Dalila Robin Show \nThis event is FREE!\nUpstairs\, 21+ \nEnjoy this event with half off all drafts from 5-7pm & 10-11pm\n& half priced tots 7pm-close on Sundays \nClick here for Saturday\, June 23rd’s event.\nClick here for Sunday\, June 24th’s event.\nClick here for Saturday\, June 30th’s event.\nClick here for Sunday\, July 1st’s event. \nJoin the Facebook Event and invite all your pals!
URL:https://www.tattooedmomphilly.com/event/6th-annual-philadelphia-podcast-festival/
CATEGORIES:Live Performance
ATTACH;FMTTYPE=image/jpeg:https://www.tattooedmomphilly.com/wp-content/uploads/2018/06/2018_fest_art_smaller.jpg
END:VEVENT
END:VCALENDAR